BEGIN:VCALENDAR
VERSION:2.0
PRODID:-//eventon.com NONSGML v1.0//EN
CALSCALE:GREGORIAN
METHOD:PUBLISH
BEGIN:VEVENT
UID:69e62f99b04f8
DTSTAMP:20260420T135225Z
DTSTART:20240719T220000Z
DTEND:20240719T235000Z
LOCATION:
SUMMARY:Festival Jazz Paterna
DESCRIPTION:Festival Jazz Paterna\nhttps://www.arielbringuez.com/events/fes
 tival-jazz-paterna/
URL:https://www.arielbringuez.com/events/festival-jazz-paterna/
END:VEVENT
END:VCALENDAR